BEGIN:VCALENDAR
VERSION:2.0
PRODID:-//wp-events-plugin.com//7.2.3.1//EN
BEGIN:VEVENT
UID:79@wahkohtowin.online
DTSTART;TZID=America/Edmonton:20231130T203000
DTEND;TZID=America/Edmonton:20231130T223000
DTSTAMP:20230925T222730Z
URL:https://wahkohtowin.online/events/wahkohtowin-online-game-testing-2-20
 23-11-30/
SUMMARY:Wâhkôhtowin Online Game Testing
DESCRIPTION:Exploring Wâhkôhtowin is an initiative that seeks to engage y
 outh and new learners on the topic of Wâhkôhtowin (loosely translates fr
 om Cree for relationships) and to introduce some of the concepts\, contex
 t\, and history around the Numbered Treaties (1 to 11) including Treaty 6\
 , 7\, and 8 between First Nations and the Crown.\n\nThis is an online game
  so testing will be open to everyone.
END:VEVENT
BEGIN:VTIMEZONE
TZID:America/Edmonton
X-LIC-LOCATION:America/Edmonton
BEGIN:STANDARD
DTSTART:20231105T010000
TZOFFSETFROM:-0600
TZOFFSETTO:-0700
TZNAME:MST
END:STANDARD
END:VTIMEZONE
END:VCALENDAR