BEGIN:VCALENDAR
VERSION:2.0
PRODID:-//wp-events-plugin.com//7.2.3.1//EN
BEGIN:VEVENT
UID:15@wahkohtowin.online
DTSTART;TZID=America/Edmonton:20230919T203000
DTEND;TZID=America/Edmonton:20230919T223000
DTSTAMP:20230624T234457Z
URL:https://wahkohtowin.online/events/wahkohtowin-online-game-testing-2023
 -09-19/
SUMMARY:Wâhkôhtowin Online Game Testing
DESCRIPTION:Exploring Wâhkôhtowin is an initiative that seeks to engage y
 outh and new learners on the topic of Wâhkôhtowin (loosely translates fr
 om Cree for relationships) and to introduce some of the concepts\, contex
 t\, and history around the Numbered Treaties (1 to 11) including Treaty 6\
 , 7\, and 8 between First Nations and the Crown.\n\nThis is an online game
  so testing will be open to everyone.
END:VEVENT
BEGIN:VTIMEZONE
TZID:America/Edmonton
X-LIC-LOCATION:America/Edmonton
BEGIN:DAYLIGHT
DTSTART:20230312T030000
TZOFFSETFROM:-0700
TZOFFSETTO:-0600
TZNAME:MDT
END:DAYLIGHT
END:VTIMEZONE
END:VCALENDAR